BEGIN:VCALENDAR
VERSION:2.0
PRODID:-//Boca Raton Assembly - ECPv6.15.17.1//NONSGML v1.0//EN
CALSCALE:GREGORIAN
METHOD:PUBLISH
X-WR-CALNAME:Boca Raton Assembly
X-ORIGINAL-URL:https://bocaratonassembly3092.com
X-WR-CALDESC:Events for Boca Raton Assembly
REFRESH-INTERVAL;VALUE=DURATION:PT1H
X-Robots-Tag:noindex
X-PUBLISHED-TTL:PT1H
BEGIN:VTIMEZONE
TZID:UTC
BEGIN:STANDARD
TZOFFSETFROM:+0000
TZOFFSETTO:+0000
TZNAME:UTC
DTSTART:20260101T000000
END:STANDARD
END:VTIMEZONE
BEGIN:VEVENT
DTSTART;VALUE=DATE:20270202
DTEND;VALUE=DATE:20270203
DTSTAMP:20260421T152706
CREATED:20241026T161945Z
LAST-MODIFIED:20241026T184401Z
UID:10001123-1801526400-1801612799@bocaratonassembly3092.com
SUMMARY:Groundhog Day
DESCRIPTION:
URL:https://bocaratonassembly3092.com/event/groundhog-day/2027-02-02/
END:VEVENT
BEGIN:VEVENT
DTSTART;VALUE=DATE:20270214
DTEND;VALUE=DATE:20270215
DTSTAMP:20260421T152706
CREATED:20241010T140304Z
LAST-MODIFIED:20241031T181556Z
UID:10001215-1802563200-1802649599@bocaratonassembly3092.com
SUMMARY:St Valentines Day
DESCRIPTION:Flowers\, Candy & Dinner
URL:https://bocaratonassembly3092.com/event/st-valentines-day/2027-02-14/
ATTACH;FMTTYPE=image/jpeg:https://bocaratonassembly3092.com/wp-content/uploads/2024/10/assembly3092-calendar-image.jpg
END:VEVENT
BEGIN:VEVENT
DTSTART;VALUE=DATE:20270215
DTEND;VALUE=DATE:20270216
DTSTAMP:20260421T152706
CREATED:20241010T140451Z
LAST-MODIFIED:20241026T184554Z
UID:10001131-1802649600-1802735999@bocaratonassembly3092.com
SUMMARY:Presidents Day
DESCRIPTION:Federal Holiday
URL:https://bocaratonassembly3092.com/event/presidents-day/2027-02-15/
ATTACH;FMTTYPE=image/jpeg:https://bocaratonassembly3092.com/wp-content/uploads/2024/10/assembly3092-calendar-image.jpg
END:VEVENT
BEGIN:VEVENT
DTSTART;TZID=UTC:20270215T190000
DTEND;TZID=UTC:20270215T200000
DTSTAMP:20260421T152706
CREATED:20241010T135257Z
LAST-MODIFIED:20241026T190243Z
UID:10001180-1802718000-1802721600@bocaratonassembly3092.com
SUMMARY:ASMBLY #3092 General Meeting
DESCRIPTION:Open to all 4th Degree only. Refreshments available after meeting.
URL:https://bocaratonassembly3092.com/event/general-meeting-15/2027-02-15/
LOCATION:Our Lady of Lourdes O’Shea Hall\, 22094 Lyons Road\, Boca Raton\, FL\, 33428\, United States
ATTACH;FMTTYPE=image/jpeg:https://bocaratonassembly3092.com/wp-content/uploads/2024/10/assembly3092-calendar-image.jpg
ORGANIZER;CN="Knights of Columbus Assembly #3092 Boca Raton":MAILTO:knights@bocaratonassembly3092.com
END:VEVENT
BEGIN:VEVENT
DTSTART;TZID=UTC:20270224T120000
DTEND;TZID=UTC:20270224T123000
DTSTAMP:20260421T152706
CREATED:20241026T181208Z
LAST-MODIFIED:20241026T181426Z
UID:10001072-1803470400-1803472200@bocaratonassembly3092.com
SUMMARY:Bugle Update Deadline
DESCRIPTION:
URL:https://bocaratonassembly3092.com/event/bugle-update-deadline/2027-02-24/
END:VEVENT
END:VCALENDAR