BEGIN:VCALENDAR
VERSION:2.0
PRODID:-//Boca Raton Assembly - ECPv6.15.17.1//NONSGML v1.0//EN
CALSCALE:GREGORIAN
METHOD:PUBLISH
X-ORIGINAL-URL:https://bocaratonassembly3092.com
X-WR-CALDESC:Events for Boca Raton Assembly
REFRESH-INTERVAL;VALUE=DURATION:PT1H
X-Robots-Tag:noindex
X-PUBLISHED-TTL:PT1H
BEGIN:VTIMEZONE
TZID:UTC
BEGIN:STANDARD
TZOFFSETFROM:+0000
TZOFFSETTO:+0000
TZNAME:UTC
DTSTART:20260101T000000
END:STANDARD
END:VTIMEZONE
BEGIN:VEVENT
DTSTART;VALUE=DATE:20270314
DTEND;VALUE=DATE:20270315
DTSTAMP:20260421T170352
CREATED:20241010T140711Z
LAST-MODIFIED:20241026T184710Z
UID:10001135-1804982400-1805068799@bocaratonassembly3092.com
SUMMARY:Daylight Saving Time Begins
DESCRIPTION:Time Springs Foward One Hour to 2:00 AM EDST
URL:https://bocaratonassembly3092.com/event/daylight-saving-time-begins/2027-03-14/
ATTACH;FMTTYPE=image/jpeg:https://bocaratonassembly3092.com/wp-content/uploads/2024/10/assembly3092-calendar-image.jpg
END:VEVENT
BEGIN:VEVENT
DTSTART;TZID=UTC:20270315T190000
DTEND;TZID=UTC:20270315T200000
DTSTAMP:20260421T170352
CREATED:20241010T135257Z
LAST-MODIFIED:20241026T190243Z
UID:10001181-1805137200-1805140800@bocaratonassembly3092.com
SUMMARY:ASMBLY #3092 General Meeting
DESCRIPTION:Open to all 4th Degree only. Refreshments available after meeting.
URL:https://bocaratonassembly3092.com/event/general-meeting-15/2027-03-15/
LOCATION:Our Lady of Lourdes O’Shea Hall\, 22094 Lyons Road\, Boca Raton\, FL\, 33428\, United States
ATTACH;FMTTYPE=image/jpeg:https://bocaratonassembly3092.com/wp-content/uploads/2024/10/assembly3092-calendar-image.jpg
ORGANIZER;CN="Knights of Columbus Assembly #3092 Boca Raton":MAILTO:knights@bocaratonassembly3092.com
END:VEVENT
BEGIN:VEVENT
DTSTART;VALUE=DATE:20270317
DTEND;VALUE=DATE:20270318
DTSTAMP:20260421T170352
CREATED:20241010T140858Z
LAST-MODIFIED:20241026T184804Z
UID:10000841-1805241600-1805327999@bocaratonassembly3092.com
SUMMARY:St Patrick's Day
DESCRIPTION:Wearing of the Green
URL:https://bocaratonassembly3092.com/event/st-patricks-day/2027-03-17/
ATTACH;FMTTYPE=image/jpeg:https://bocaratonassembly3092.com/wp-content/uploads/2024/10/assembly3092-calendar-image.jpg
END:VEVENT
BEGIN:VEVENT
DTSTART;TZID=UTC:20270331T120000
DTEND;TZID=UTC:20270331T123000
DTSTAMP:20260421T170352
CREATED:20241026T181208Z
LAST-MODIFIED:20241026T181426Z
UID:10001073-1806494400-1806496200@bocaratonassembly3092.com
SUMMARY:Bugle Update Deadline
DESCRIPTION:
URL:https://bocaratonassembly3092.com/event/bugle-update-deadline/2027-03-31/
END:VEVENT
END:VCALENDAR