BEGIN:VCALENDAR
VERSION:2.0
PRODID:-//Boca Raton Assembly - ECPv6.15.17.1//NONSGML v1.0//EN
CALSCALE:GREGORIAN
METHOD:PUBLISH
X-WR-CALNAME:Boca Raton Assembly
X-ORIGINAL-URL:https://bocaratonassembly3092.com
X-WR-CALDESC:Events for Boca Raton Assembly
REFRESH-INTERVAL;VALUE=DURATION:PT1H
X-Robots-Tag:noindex
X-PUBLISHED-TTL:PT1H
BEGIN:VTIMEZONE
TZID:UTC
BEGIN:STANDARD
TZOFFSETFROM:+0000
TZOFFSETTO:+0000
TZNAME:UTC
DTSTART:20260101T000000
END:STANDARD
END:VTIMEZONE
BEGIN:VEVENT
DTSTART;VALUE=DATE:20270401
DTEND;VALUE=DATE:20270402
DTSTAMP:20260421T184313
CREATED:20241026T162250Z
LAST-MODIFIED:20241026T184900Z
UID:10001141-1806537600-1806623999@bocaratonassembly3092.com
SUMMARY:April Fools Day
DESCRIPTION:
URL:https://bocaratonassembly3092.com/event/april-fools-day/2027-04-01/
END:VEVENT
BEGIN:VEVENT
DTSTART;VALUE=DATE:20270415
DTEND;VALUE=DATE:20270416
DTSTAMP:20260421T184313
CREATED:20241010T141258Z
LAST-MODIFIED:20241026T185014Z
UID:10001145-1807747200-1807833599@bocaratonassembly3092.com
SUMMARY:Tax Day
DESCRIPTION:Taxes Due
URL:https://bocaratonassembly3092.com/event/tax-day/2027-04-15/
ATTACH;FMTTYPE=image/jpeg:https://bocaratonassembly3092.com/wp-content/uploads/2024/10/assembly3092-calendar-image.jpg
END:VEVENT
BEGIN:VEVENT
DTSTART;TZID=UTC:20270419T190000
DTEND;TZID=UTC:20270419T200000
DTSTAMP:20260421T184313
CREATED:20241010T135257Z
LAST-MODIFIED:20241026T190243Z
UID:10001182-1808161200-1808164800@bocaratonassembly3092.com
SUMMARY:ASMBLY #3092 General Meeting
DESCRIPTION:Open to all 4th Degree only. Refreshments available after meeting.
URL:https://bocaratonassembly3092.com/event/general-meeting-15/2027-04-19/
LOCATION:Our Lady of Lourdes O’Shea Hall\, 22094 Lyons Road\, Boca Raton\, FL\, 33428\, United States
ATTACH;FMTTYPE=image/jpeg:https://bocaratonassembly3092.com/wp-content/uploads/2024/10/assembly3092-calendar-image.jpg
ORGANIZER;CN="Knights of Columbus Assembly #3092 Boca Raton":MAILTO:knights@bocaratonassembly3092.com
END:VEVENT
BEGIN:VEVENT
DTSTART;VALUE=DATE:20270428
DTEND;VALUE=DATE:20270429
DTSTAMP:20260421T184313
CREATED:20241026T162353Z
LAST-MODIFIED:20241026T185257Z
UID:10001149-1808870400-1808956799@bocaratonassembly3092.com
SUMMARY:Admin Professionals Day
DESCRIPTION:
URL:https://bocaratonassembly3092.com/event/admin-professionals-day/2027-04-28/
END:VEVENT
BEGIN:VEVENT
DTSTART;TZID=UTC:20270428T120000
DTEND;TZID=UTC:20270428T123000
DTSTAMP:20260421T184313
CREATED:20241026T181208Z
LAST-MODIFIED:20241026T181426Z
UID:10001074-1808913600-1808915400@bocaratonassembly3092.com
SUMMARY:Bugle Update Deadline
DESCRIPTION:
URL:https://bocaratonassembly3092.com/event/bugle-update-deadline/2027-04-28/
END:VEVENT
END:VCALENDAR