BEGIN:VCALENDAR
VERSION:2.0
PRODID:-//Boca Raton Assembly - ECPv6.15.17.1//NONSGML v1.0//EN
CALSCALE:GREGORIAN
METHOD:PUBLISH
X-WR-CALNAME:Boca Raton Assembly
X-ORIGINAL-URL:https://bocaratonassembly3092.com
X-WR-CALDESC:Events for Boca Raton Assembly
REFRESH-INTERVAL;VALUE=DURATION:PT1H
X-Robots-Tag:noindex
X-PUBLISHED-TTL:PT1H
BEGIN:VTIMEZONE
TZID:UTC
BEGIN:STANDARD
TZOFFSETFROM:+0000
TZOFFSETTO:+0000
TZNAME:UTC
DTSTART:20260101T000000
END:STANDARD
END:VTIMEZONE
BEGIN:VEVENT
DTSTART;VALUE=DATE:20270505
DTEND;VALUE=DATE:20270506
DTSTAMP:20260421T202313
CREATED:20241010T142147Z
LAST-MODIFIED:20241026T185728Z
UID:10000851-1809475200-1809561599@bocaratonassembly3092.com
SUMMARY:Cinco de Mayo
DESCRIPTION:Cinco de Mayo commemorates the Mexican victory over the French empire on May 5\, 1862.
URL:https://bocaratonassembly3092.com/event/cinco-de-mayo/2027-05-05/
ATTACH;FMTTYPE=image/jpeg:https://bocaratonassembly3092.com/wp-content/uploads/2024/10/assembly3092-calendar-image.jpg
END:VEVENT
BEGIN:VEVENT
DTSTART;VALUE=DATE:20270506
DTEND;VALUE=DATE:20270507
DTSTAMP:20260421T202313
CREATED:20241026T164206Z
LAST-MODIFIED:20241026T185515Z
UID:10001154-1809561600-1809647999@bocaratonassembly3092.com
SUMMARY:Nat'l Day of Prayer
DESCRIPTION:
URL:https://bocaratonassembly3092.com/event/natl-day-of-prayer/2027-05-06/
END:VEVENT
BEGIN:VEVENT
DTSTART;VALUE=DATE:20270509
DTEND;VALUE=DATE:20270510
DTSTAMP:20260421T202313
CREATED:20241010T142508Z
LAST-MODIFIED:20241031T183158Z
UID:10001220-1809820800-1809907199@bocaratonassembly3092.com
SUMMARY:Mothers Day
DESCRIPTION:Honor thy Mother with flowers\, candy\, dinner and a card.
URL:https://bocaratonassembly3092.com/event/mothers-day/2027-05-09/
END:VEVENT
BEGIN:VEVENT
DTSTART;VALUE=DATE:20270517
DTEND;VALUE=DATE:20270518
DTSTAMP:20260421T202313
CREATED:20241026T164320Z
LAST-MODIFIED:20241026T185840Z
UID:10001165-1810512000-1810598399@bocaratonassembly3092.com
SUMMARY:Armed Forces Day
DESCRIPTION:
URL:https://bocaratonassembly3092.com/event/armed-forces-day/2027-05-17/
END:VEVENT
BEGIN:VEVENT
DTSTART;TZID=UTC:20270517T190000
DTEND;TZID=UTC:20270517T200000
DTSTAMP:20260421T202313
CREATED:20241010T135257Z
LAST-MODIFIED:20241026T190243Z
UID:10001183-1810580400-1810584000@bocaratonassembly3092.com
SUMMARY:ASMBLY #3092 General Meeting
DESCRIPTION:Open to all 4th Degree only. Refreshments available after meeting.
URL:https://bocaratonassembly3092.com/event/general-meeting-15/2027-05-17/
LOCATION:Our Lady of Lourdes O’Shea Hall\, 22094 Lyons Road\, Boca Raton\, FL\, 33428\, United States
ATTACH;FMTTYPE=image/jpeg:https://bocaratonassembly3092.com/wp-content/uploads/2024/10/assembly3092-calendar-image.jpg
ORGANIZER;CN="Knights of Columbus Assembly #3092 Boca Raton":MAILTO:knights@bocaratonassembly3092.com
END:VEVENT
BEGIN:VEVENT
DTSTART;TZID=UTC:20270526T120000
DTEND;TZID=UTC:20270526T123000
DTSTAMP:20260421T202313
CREATED:20241026T181208Z
LAST-MODIFIED:20241026T181426Z
UID:10001075-1811332800-1811334600@bocaratonassembly3092.com
SUMMARY:Bugle Update Deadline
DESCRIPTION:
URL:https://bocaratonassembly3092.com/event/bugle-update-deadline/2027-05-26/
END:VEVENT
BEGIN:VEVENT
DTSTART;VALUE=DATE:20270531
DTEND;VALUE=DATE:20270601
DTSTAMP:20260421T202313
CREATED:20241010T142632Z
LAST-MODIFIED:20241026T181641Z
UID:10001105-1811721600-1811807999@bocaratonassembly3092.com
SUMMARY:Memorial Day
DESCRIPTION:Federal Holiday
URL:https://bocaratonassembly3092.com/event/memorial-day/2027-05-31/
ATTACH;FMTTYPE=image/jpeg:https://bocaratonassembly3092.com/wp-content/uploads/2024/10/assembly3092-calendar-image.jpg
END:VEVENT
END:VCALENDAR