BEGIN:VCALENDAR
VERSION:2.0
PRODID:-//Boca Raton Assembly - ECPv6.15.17.1//NONSGML v1.0//EN
CALSCALE:GREGORIAN
METHOD:PUBLISH
X-ORIGINAL-URL:https://bocaratonassembly3092.com
X-WR-CALDESC:Events for Boca Raton Assembly
REFRESH-INTERVAL;VALUE=DURATION:PT1H
X-Robots-Tag:noindex
X-PUBLISHED-TTL:PT1H
BEGIN:VTIMEZONE
TZID:UTC
BEGIN:STANDARD
TZOFFSETFROM:+0000
TZOFFSETTO:+0000
TZNAME:UTC
DTSTART:20260101T000000
END:STANDARD
END:VTIMEZONE
BEGIN:VEVENT
DTSTART;VALUE=DATE:20270704
DTEND;VALUE=DATE:20270705
DTSTAMP:20260422T002004
CREATED:20241010T143358Z
LAST-MODIFIED:20241026T180023Z
UID:10000864-1814659200-1814745599@bocaratonassembly3092.com
SUMMARY:Independance Day
DESCRIPTION:Federal Holiday
URL:https://bocaratonassembly3092.com/event/independance-day/2027-07-04/
ATTACH;FMTTYPE=image/jpeg:https://bocaratonassembly3092.com/wp-content/uploads/2024/10/assembly3092-calendar-image.jpg
END:VEVENT
BEGIN:VEVENT
DTSTART;TZID=UTC:20270719T190000
DTEND;TZID=UTC:20270719T200000
DTSTAMP:20260422T002004
CREATED:20241010T135257Z
LAST-MODIFIED:20241026T190243Z
UID:10001185-1816023600-1816027200@bocaratonassembly3092.com
SUMMARY:ASMBLY #3092 General Meeting
DESCRIPTION:Open to all 4th Degree only. Refreshments available after meeting.
URL:https://bocaratonassembly3092.com/event/general-meeting-15/2027-07-19/
LOCATION:Our Lady of Lourdes O’Shea Hall\, 22094 Lyons Road\, Boca Raton\, FL\, 33428\, United States
ATTACH;FMTTYPE=image/jpeg:https://bocaratonassembly3092.com/wp-content/uploads/2024/10/assembly3092-calendar-image.jpg
ORGANIZER;CN="Knights of Columbus Assembly #3092 Boca Raton":MAILTO:knights@bocaratonassembly3092.com
END:VEVENT
BEGIN:VEVENT
DTSTART;VALUE=DATE:20270725
DTEND;VALUE=DATE:20270726
DTSTAMP:20260422T002004
CREATED:20241026T164603Z
LAST-MODIFIED:20241026T175624Z
UID:10001030-1816473600-1816559999@bocaratonassembly3092.com
SUMMARY:Parents Day
DESCRIPTION:
URL:https://bocaratonassembly3092.com/event/parents-day/2027-07-25/
END:VEVENT
BEGIN:VEVENT
DTSTART;TZID=UTC:20270728T120000
DTEND;TZID=UTC:20270728T123000
DTSTAMP:20260422T002004
CREATED:20241026T181208Z
LAST-MODIFIED:20241026T181426Z
UID:10001077-1816776000-1816777800@bocaratonassembly3092.com
SUMMARY:Bugle Update Deadline
DESCRIPTION:
URL:https://bocaratonassembly3092.com/event/bugle-update-deadline/2027-07-28/
END:VEVENT
END:VCALENDAR