BEGIN:VCALENDAR
VERSION:2.0
PRODID:-//Boca Raton Assembly - ECPv6.15.17.1//NONSGML v1.0//EN
CALSCALE:GREGORIAN
METHOD:PUBLISH
X-WR-CALNAME:Boca Raton Assembly
X-ORIGINAL-URL:https://bocaratonassembly3092.com
X-WR-CALDESC:Events for Boca Raton Assembly
REFRESH-INTERVAL;VALUE=DURATION:PT1H
X-Robots-Tag:noindex
X-PUBLISHED-TTL:PT1H
BEGIN:VTIMEZONE
TZID:UTC
BEGIN:STANDARD
TZOFFSETFROM:+0000
TZOFFSETTO:+0000
TZNAME:UTC
DTSTART:20260101T000000
END:STANDARD
END:VTIMEZONE
BEGIN:VEVENT
DTSTART;TZID=UTC:20271207T080000
DTEND;TZID=UTC:20271207T170000
DTSTAMP:20260422T101741
CREATED:20241026T164818Z
LAST-MODIFIED:20241026T164818Z
UID:10000973-1828166400-1828198800@bocaratonassembly3092.com
SUMMARY:Pearl Harbor Rem Day
DESCRIPTION:
URL:https://bocaratonassembly3092.com/event/pearl-harbor-rem-day/2027-12-07/
END:VEVENT
BEGIN:VEVENT
DTSTART;VALUE=DATE:20271208
DTEND;VALUE=DATE:20271209
DTSTAMP:20260422T101741
CREATED:20241010T145843Z
LAST-MODIFIED:20241026T173414Z
UID:10000984-1828224000-1828310399@bocaratonassembly3092.com
SUMMARY:Immaculate Conception
DESCRIPTION:Holy Day Of Obligation
URL:https://bocaratonassembly3092.com/event/immaculate-conception/2027-12-08/
ATTACH;FMTTYPE=image/jpeg:https://bocaratonassembly3092.com/wp-content/uploads/2024/10/assembly3092-calendar-image.jpg
END:VEVENT
BEGIN:VEVENT
DTSTART;TZID=UTC:20271220T190000
DTEND;TZID=UTC:20271220T200000
DTSTAMP:20260422T101741
CREATED:20241010T135257Z
LAST-MODIFIED:20241026T190243Z
UID:10001190-1829329200-1829332800@bocaratonassembly3092.com
SUMMARY:ASMBLY #3092 General Meeting
DESCRIPTION:Open to all 4th Degree only. Refreshments available after meeting.
URL:https://bocaratonassembly3092.com/event/general-meeting-15/2027-12-20/
LOCATION:Our Lady of Lourdes O’Shea Hall\, 22094 Lyons Road\, Boca Raton\, FL\, 33428\, United States
ATTACH;FMTTYPE=image/jpeg:https://bocaratonassembly3092.com/wp-content/uploads/2024/10/assembly3092-calendar-image.jpg
ORGANIZER;CN="Knights of Columbus Assembly #3092 Boca Raton":MAILTO:knights@bocaratonassembly3092.com
END:VEVENT
BEGIN:VEVENT
DTSTART;VALUE=DATE:20271225
DTEND;VALUE=DATE:20271226
DTSTAMP:20260422T101741
CREATED:20241003T190455Z
LAST-MODIFIED:20241026T183642Z
UID:10001108-1829692800-1829779199@bocaratonassembly3092.com
SUMMARY:Christmas Day
DESCRIPTION:Federal Holiday
URL:https://bocaratonassembly3092.com/event/christmas-day/2027-12-25/
ATTACH;FMTTYPE=image/png:https://bocaratonassembly3092.com/wp-content/uploads/2024/10/christmasday.png
END:VEVENT
BEGIN:VEVENT
DTSTART;VALUE=DATE:20271225
DTEND;VALUE=DATE:20271226
DTSTAMP:20260422T101741
CREATED:20241003T190545Z
LAST-MODIFIED:20241026T183741Z
UID:10001110-1829692800-1829779199@bocaratonassembly3092.com
SUMMARY:Nativity
DESCRIPTION:Holy Day Of Obligation
URL:https://bocaratonassembly3092.com/event/nativity/2027-12-25/
ATTACH;FMTTYPE=image/png:https://bocaratonassembly3092.com/wp-content/uploads/2024/10/christmasday.png
ORGANIZER;CN="Knights of Columbus Assembly #3092 Boca Raton":MAILTO:knights@bocaratonassembly3092.com
END:VEVENT
BEGIN:VEVENT
DTSTART;TZID=UTC:20271229T120000
DTEND;TZID=UTC:20271229T123000
DTSTAMP:20260422T101741
CREATED:20241026T181208Z
LAST-MODIFIED:20241026T181426Z
UID:10001082-1830081600-1830083400@bocaratonassembly3092.com
SUMMARY:Bugle Update Deadline
DESCRIPTION:
URL:https://bocaratonassembly3092.com/event/bugle-update-deadline/2027-12-29/
END:VEVENT
END:VCALENDAR