BEGIN:VCALENDAR
VERSION:2.0
PRODID:-//Boca Raton Assembly - ECPv6.15.17.1//NONSGML v1.0//EN
CALSCALE:GREGORIAN
METHOD:PUBLISH
X-ORIGINAL-URL:https://bocaratonassembly3092.com
X-WR-CALDESC:Events for Boca Raton Assembly
REFRESH-INTERVAL;VALUE=DURATION:PT1H
X-Robots-Tag:noindex
X-PUBLISHED-TTL:PT1H
BEGIN:VTIMEZONE
TZID:UTC
BEGIN:STANDARD
TZOFFSETFROM:+0000
TZOFFSETTO:+0000
TZNAME:UTC
DTSTART:20270101T000000
END:STANDARD
END:VTIMEZONE
BEGIN:VEVENT
DTSTART;VALUE=DATE:20280101
DTEND;VALUE=DATE:20280102
DTSTAMP:20260422T115743
CREATED:20241003T190817Z
LAST-MODIFIED:20241026T183948Z
UID:10001112-1830297600-1830383999@bocaratonassembly3092.com
SUMMARY:New Years Day
DESCRIPTION:Federal Holiday
URL:https://bocaratonassembly3092.com/event/new-years-day/2028-01-01/
ATTACH;FMTTYPE=image/jpeg:https://bocaratonassembly3092.com/wp-content/uploads/2024/10/new-years2025.jpg
ORGANIZER;CN="Knights of Columbus Assembly #3092 Boca Raton":MAILTO:knights@bocaratonassembly3092.com
END:VEVENT
BEGIN:VEVENT
DTSTART;VALUE=DATE:20280101
DTEND;VALUE=DATE:20280102
DTSTAMP:20260422T115743
CREATED:20241003T190912Z
LAST-MODIFIED:20241026T184132Z
UID:10001116-1830297600-1830383999@bocaratonassembly3092.com
SUMMARY:Solemnity of Mary
DESCRIPTION:Holy Day Of Obligation
URL:https://bocaratonassembly3092.com/event/solemnity-of-mary/2028-01-01/
ATTACH;FMTTYPE=image/jpeg:https://bocaratonassembly3092.com/wp-content/uploads/2024/10/assembly3092-calendar-image.jpg
ORGANIZER;CN="Knights of Columbus Assembly #3092 Boca Raton":MAILTO:knights@bocaratonassembly3092.com
END:VEVENT
BEGIN:VEVENT
DTSTART;VALUE=DATE:20280117
DTEND;VALUE=DATE:20280118
DTSTAMP:20260422T115743
CREATED:20241003T191307Z
LAST-MODIFIED:20241026T184255Z
UID:10001120-1831680000-1831766399@bocaratonassembly3092.com
SUMMARY:Martin Luther King Jr Day
DESCRIPTION:Federal Holiday
URL:https://bocaratonassembly3092.com/event/martin-luther-king-jr-day/2028-01-17/
ATTACH;FMTTYPE=image/jpeg:https://bocaratonassembly3092.com/wp-content/uploads/2024/10/mlkday.jpg
ORGANIZER;CN="Knights of Columbus Assembly #3092 Boca Raton":MAILTO:knights@bocaratonassembly3092.com
END:VEVENT
BEGIN:VEVENT
DTSTART;TZID=UTC:20280117T190000
DTEND;TZID=UTC:20280117T200000
DTSTAMP:20260422T115743
CREATED:20241010T135257Z
LAST-MODIFIED:20241026T190243Z
UID:10001191-1831748400-1831752000@bocaratonassembly3092.com
SUMMARY:ASMBLY #3092 General Meeting
DESCRIPTION:Open to all 4th Degree only. Refreshments available after meeting.
URL:https://bocaratonassembly3092.com/event/general-meeting-15/2028-01-17/
LOCATION:Our Lady of Lourdes O’Shea Hall\, 22094 Lyons Road\, Boca Raton\, FL\, 33428\, United States
ATTACH;FMTTYPE=image/jpeg:https://bocaratonassembly3092.com/wp-content/uploads/2024/10/assembly3092-calendar-image.jpg
ORGANIZER;CN="Knights of Columbus Assembly #3092 Boca Raton":MAILTO:knights@bocaratonassembly3092.com
END:VEVENT
BEGIN:VEVENT
DTSTART;TZID=UTC:20280126T120000
DTEND;TZID=UTC:20280126T123000
DTSTAMP:20260422T115743
CREATED:20241026T181208Z
LAST-MODIFIED:20241026T181426Z
UID:10001083-1832500800-1832502600@bocaratonassembly3092.com
SUMMARY:Bugle Update Deadline
DESCRIPTION:
URL:https://bocaratonassembly3092.com/event/bugle-update-deadline/2028-01-26/
END:VEVENT
END:VCALENDAR