BEGIN:VCALENDAR
VERSION:2.0
PRODID:-//Boca Raton Assembly - ECPv6.15.17.1//NONSGML v1.0//EN
CALSCALE:GREGORIAN
METHOD:PUBLISH
X-WR-CALNAME:Boca Raton Assembly
X-ORIGINAL-URL:https://bocaratonassembly3092.com
X-WR-CALDESC:Events for Boca Raton Assembly
REFRESH-INTERVAL;VALUE=DURATION:PT1H
X-Robots-Tag:noindex
X-PUBLISHED-TTL:PT1H
BEGIN:VTIMEZONE
TZID:UTC
BEGIN:STANDARD
TZOFFSETFROM:+0000
TZOFFSETTO:+0000
TZNAME:UTC
DTSTART:20270101T000000
END:STANDARD
END:VTIMEZONE
BEGIN:VEVENT
DTSTART;VALUE=DATE:20280202
DTEND;VALUE=DATE:20280203
DTSTAMP:20260422T140016
CREATED:20241026T161945Z
LAST-MODIFIED:20241026T184401Z
UID:10001124-1833062400-1833148799@bocaratonassembly3092.com
SUMMARY:Groundhog Day
DESCRIPTION:
URL:https://bocaratonassembly3092.com/event/groundhog-day/2028-02-02/
END:VEVENT
BEGIN:VEVENT
DTSTART;VALUE=DATE:20280214
DTEND;VALUE=DATE:20280215
DTSTAMP:20260422T140016
CREATED:20241010T140304Z
LAST-MODIFIED:20241031T181556Z
UID:10001216-1834099200-1834185599@bocaratonassembly3092.com
SUMMARY:St Valentines Day
DESCRIPTION:Flowers\, Candy & Dinner
URL:https://bocaratonassembly3092.com/event/st-valentines-day/2028-02-14/
ATTACH;FMTTYPE=image/jpeg:https://bocaratonassembly3092.com/wp-content/uploads/2024/10/assembly3092-calendar-image.jpg
END:VEVENT
BEGIN:VEVENT
DTSTART;VALUE=DATE:20280221
DTEND;VALUE=DATE:20280222
DTSTAMP:20260422T140016
CREATED:20241010T140451Z
LAST-MODIFIED:20241026T184554Z
UID:10001132-1834704000-1834790399@bocaratonassembly3092.com
SUMMARY:Presidents Day
DESCRIPTION:Federal Holiday
URL:https://bocaratonassembly3092.com/event/presidents-day/2028-02-21/
ATTACH;FMTTYPE=image/jpeg:https://bocaratonassembly3092.com/wp-content/uploads/2024/10/assembly3092-calendar-image.jpg
END:VEVENT
BEGIN:VEVENT
DTSTART;TZID=UTC:20280221T190000
DTEND;TZID=UTC:20280221T200000
DTSTAMP:20260422T140016
CREATED:20241010T135257Z
LAST-MODIFIED:20241026T190243Z
UID:10001192-1834772400-1834776000@bocaratonassembly3092.com
SUMMARY:ASMBLY #3092 General Meeting
DESCRIPTION:Open to all 4th Degree only. Refreshments available after meeting.
URL:https://bocaratonassembly3092.com/event/general-meeting-15/2028-02-21/
LOCATION:Our Lady of Lourdes O’Shea Hall\, 22094 Lyons Road\, Boca Raton\, FL\, 33428\, United States
ATTACH;FMTTYPE=image/jpeg:https://bocaratonassembly3092.com/wp-content/uploads/2024/10/assembly3092-calendar-image.jpg
ORGANIZER;CN="Knights of Columbus Assembly #3092 Boca Raton":MAILTO:knights@bocaratonassembly3092.com
END:VEVENT
BEGIN:VEVENT
DTSTART;TZID=UTC:20280223T120000
DTEND;TZID=UTC:20280223T123000
DTSTAMP:20260422T140016
CREATED:20241026T181208Z
LAST-MODIFIED:20241026T181426Z
UID:10001084-1834920000-1834921800@bocaratonassembly3092.com
SUMMARY:Bugle Update Deadline
DESCRIPTION:
URL:https://bocaratonassembly3092.com/event/bugle-update-deadline/2028-02-23/
END:VEVENT
END:VCALENDAR