BEGIN:VCALENDAR
VERSION:2.0
PRODID:-//Boca Raton Assembly - ECPv6.15.17.1//NONSGML v1.0//EN
CALSCALE:GREGORIAN
METHOD:PUBLISH
X-WR-CALNAME:Boca Raton Assembly
X-ORIGINAL-URL:https://bocaratonassembly3092.com
X-WR-CALDESC:Events for Boca Raton Assembly
REFRESH-INTERVAL;VALUE=DURATION:PT1H
X-Robots-Tag:noindex
X-PUBLISHED-TTL:PT1H
BEGIN:VTIMEZONE
TZID:UTC
BEGIN:STANDARD
TZOFFSETFROM:+0000
TZOFFSETTO:+0000
TZNAME:UTC
DTSTART:20270101T000000
END:STANDARD
END:VTIMEZONE
BEGIN:VEVENT
DTSTART;VALUE=DATE:20281009
DTEND;VALUE=DATE:20281010
DTSTAMP:20260423T042433
CREATED:20241002T161245Z
LAST-MODIFIED:20241026T173601Z
UID:10000989-1854662400-1854748799@bocaratonassembly3092.com
SUMMARY:Columbus Day
DESCRIPTION:Columbus Day is the U.S. federal holiday commemorating explorer Christopher Columbus’ landing in the New World on October 12\, 1492. It also celebrates the cultural heritage of Italian Americans\, since many scholars believe Columbus was born in Genoa\, Italy.
URL:https://bocaratonassembly3092.com/event/columbus-day/2028-10-09/
ATTACH;FMTTYPE=image/png:https://bocaratonassembly3092.com/wp-content/uploads/2024/10/united-states-flag.png
ORGANIZER;CN="Knights of Columbus Assembly #3092 Boca Raton":MAILTO:knights@bocaratonassembly3092.com
END:VEVENT
BEGIN:VEVENT
DTSTART;VALUE=DATE:20281009
DTEND;VALUE=DATE:20281010
DTSTAMP:20260423T042433
CREATED:20241010T143747Z
LAST-MODIFIED:20241026T174947Z
UID:10001015-1854662400-1854748799@bocaratonassembly3092.com
SUMMARY:Columbus Day
DESCRIPTION:Columbus Day is the U.S. federal holiday commemorating explorer Christopher Columbus’ landing in the New World on October 12\, 1492. It also celebrates the cultural heritage of Italian Americans\, since many scholars believe Columbus was born in Genoa\, Italy.
URL:https://bocaratonassembly3092.com/event/columbus-day-2/2028-10-09/
ATTACH;FMTTYPE=image/png:https://bocaratonassembly3092.com/wp-content/uploads/2024/10/united-states-flag.png
ORGANIZER;CN="Knights of Columbus Assembly #3092 Boca Raton":MAILTO:knights@bocaratonassembly3092.com
END:VEVENT
BEGIN:VEVENT
DTSTART;TZID=UTC:20281016T190000
DTEND;TZID=UTC:20281016T200000
DTSTAMP:20260423T042433
CREATED:20241010T135257Z
LAST-MODIFIED:20241026T190243Z
UID:10001200-1855335600-1855339200@bocaratonassembly3092.com
SUMMARY:ASMBLY #3092 General Meeting
DESCRIPTION:Open to all 4th Degree only. Refreshments available after meeting.
URL:https://bocaratonassembly3092.com/event/general-meeting-15/2028-10-16/
LOCATION:Our Lady of Lourdes O’Shea Hall\, 22094 Lyons Road\, Boca Raton\, FL\, 33428\, United States
ATTACH;FMTTYPE=image/jpeg:https://bocaratonassembly3092.com/wp-content/uploads/2024/10/assembly3092-calendar-image.jpg
ORGANIZER;CN="Knights of Columbus Assembly #3092 Boca Raton":MAILTO:knights@bocaratonassembly3092.com
END:VEVENT
BEGIN:VEVENT
DTSTART;TZID=UTC:20281025T120000
DTEND;TZID=UTC:20281025T123000
DTSTAMP:20260423T042433
CREATED:20241026T181208Z
LAST-MODIFIED:20241026T181426Z
UID:10001092-1856088000-1856089800@bocaratonassembly3092.com
SUMMARY:Bugle Update Deadline
DESCRIPTION:
URL:https://bocaratonassembly3092.com/event/bugle-update-deadline/2028-10-25/
END:VEVENT
END:VCALENDAR