BEGIN:VCALENDAR
VERSION:2.0
PRODID:-//Boca Raton Assembly - ECPv6.15.17.1//NONSGML v1.0//EN
CALSCALE:GREGORIAN
METHOD:PUBLISH
X-WR-CALNAME:Boca Raton Assembly
X-ORIGINAL-URL:https://bocaratonassembly3092.com
X-WR-CALDESC:Events for Boca Raton Assembly
REFRESH-INTERVAL;VALUE=DURATION:PT1H
X-Robots-Tag:noindex
X-PUBLISHED-TTL:PT1H
BEGIN:VTIMEZONE
TZID:UTC
BEGIN:STANDARD
TZOFFSETFROM:+0000
TZOFFSETTO:+0000
TZNAME:UTC
DTSTART:20280101T000000
END:STANDARD
END:VTIMEZONE
BEGIN:VEVENT
DTSTART;VALUE=DATE:20290704
DTEND;VALUE=DATE:20290705
DTSTAMP:20260425T174129
CREATED:20241010T143358Z
LAST-MODIFIED:20241026T180023Z
UID:10001034-1877817600-1877903999@bocaratonassembly3092.com
SUMMARY:Independance Day
DESCRIPTION:Federal Holiday
URL:https://bocaratonassembly3092.com/event/independance-day/2029-07-04/
ATTACH;FMTTYPE=image/jpeg:https://bocaratonassembly3092.com/wp-content/uploads/2024/10/assembly3092-calendar-image.jpg
END:VEVENT
BEGIN:VEVENT
DTSTART;TZID=UTC:20290716T190000
DTEND;TZID=UTC:20290716T200000
DTSTAMP:20260425T174129
CREATED:20241010T135257Z
LAST-MODIFIED:20241026T190243Z
UID:10001209-1878922800-1878926400@bocaratonassembly3092.com
SUMMARY:ASMBLY #3092 General Meeting
DESCRIPTION:Open to all 4th Degree only. Refreshments available after meeting.
URL:https://bocaratonassembly3092.com/event/general-meeting-15/2029-07-16/
LOCATION:Our Lady of Lourdes O’Shea Hall\, 22094 Lyons Road\, Boca Raton\, FL\, 33428\, United States
ATTACH;FMTTYPE=image/jpeg:https://bocaratonassembly3092.com/wp-content/uploads/2024/10/assembly3092-calendar-image.jpg
ORGANIZER;CN="Knights of Columbus Assembly #3092 Boca Raton":MAILTO:knights@bocaratonassembly3092.com
END:VEVENT
BEGIN:VEVENT
DTSTART;VALUE=DATE:20290722
DTEND;VALUE=DATE:20290723
DTSTAMP:20260425T174129
CREATED:20241026T164603Z
LAST-MODIFIED:20241026T175624Z
UID:10001032-1879372800-1879459199@bocaratonassembly3092.com
SUMMARY:Parents Day
DESCRIPTION:
URL:https://bocaratonassembly3092.com/event/parents-day/2029-07-22/
END:VEVENT
BEGIN:VEVENT
DTSTART;TZID=UTC:20290725T120000
DTEND;TZID=UTC:20290725T123000
DTSTAMP:20260425T174129
CREATED:20241026T181208Z
LAST-MODIFIED:20241026T181426Z
UID:10001101-1879675200-1879677000@bocaratonassembly3092.com
SUMMARY:Bugle Update Deadline
DESCRIPTION:
URL:https://bocaratonassembly3092.com/event/bugle-update-deadline/2029-07-25/
END:VEVENT
END:VCALENDAR