BEGIN:VCALENDAR
VERSION:2.0
PRODID:-//Boca Raton Assembly - ECPv6.15.17.1//NONSGML v1.0//EN
CALSCALE:GREGORIAN
METHOD:PUBLISH
X-WR-CALNAME:Boca Raton Assembly
X-ORIGINAL-URL:https://bocaratonassembly3092.com
X-WR-CALDESC:Events for Boca Raton Assembly
REFRESH-INTERVAL;VALUE=DURATION:PT1H
X-Robots-Tag:noindex
X-PUBLISHED-TTL:PT1H
BEGIN:VTIMEZONE
TZID:UTC
BEGIN:STANDARD
TZOFFSETFROM:+0000
TZOFFSETTO:+0000
TZNAME:UTC
DTSTART:20280101T000000
END:STANDARD
END:VTIMEZONE
BEGIN:VEVENT
DTSTART;VALUE=DATE:20290815
DTEND;VALUE=DATE:20290816
DTSTAMP:20260425T193558
CREATED:20241010T143446Z
LAST-MODIFIED:20241026T175415Z
UID:10001028-1881446400-1881532799@bocaratonassembly3092.com
SUMMARY:Assumption of the BVM
DESCRIPTION:Holy Day of Obligation
URL:https://bocaratonassembly3092.com/event/assumption-of-the-bvm/2029-08-15/
ATTACH;FMTTYPE=image/jpeg:https://bocaratonassembly3092.com/wp-content/uploads/2024/10/assembly3092-calendar-image.jpg
END:VEVENT
BEGIN:VEVENT
DTSTART;TZID=UTC:20290820T190000
DTEND;TZID=UTC:20290820T200000
DTSTAMP:20260425T193558
CREATED:20241010T135257Z
LAST-MODIFIED:20241026T190243Z
UID:10001210-1881946800-1881950400@bocaratonassembly3092.com
SUMMARY:ASMBLY #3092 General Meeting
DESCRIPTION:Open to all 4th Degree only. Refreshments available after meeting.
URL:https://bocaratonassembly3092.com/event/general-meeting-15/2029-08-20/
LOCATION:Our Lady of Lourdes O’Shea Hall\, 22094 Lyons Road\, Boca Raton\, FL\, 33428\, United States
ATTACH;FMTTYPE=image/jpeg:https://bocaratonassembly3092.com/wp-content/uploads/2024/10/assembly3092-calendar-image.jpg
ORGANIZER;CN="Knights of Columbus Assembly #3092 Boca Raton":MAILTO:knights@bocaratonassembly3092.com
END:VEVENT
BEGIN:VEVENT
DTSTART;TZID=UTC:20290829T120000
DTEND;TZID=UTC:20290829T123000
DTSTAMP:20260425T193558
CREATED:20241026T181208Z
LAST-MODIFIED:20241026T181426Z
UID:10001102-1882699200-1882701000@bocaratonassembly3092.com
SUMMARY:Bugle Update Deadline
DESCRIPTION:
URL:https://bocaratonassembly3092.com/event/bugle-update-deadline/2029-08-29/
END:VEVENT
END:VCALENDAR