BEGIN:VCALENDAR
VERSION:2.0
PRODID:-//Boca Raton Assembly - ECPv6.15.17.1//NONSGML v1.0//EN
CALSCALE:GREGORIAN
METHOD:PUBLISH
X-WR-CALNAME:Boca Raton Assembly
X-ORIGINAL-URL:https://bocaratonassembly3092.com
X-WR-CALDESC:Events for Boca Raton Assembly
REFRESH-INTERVAL;VALUE=DURATION:PT1H
X-Robots-Tag:noindex
X-PUBLISHED-TTL:PT1H
BEGIN:VTIMEZONE
TZID:UTC
BEGIN:STANDARD
TZOFFSETFROM:+0000
TZOFFSETTO:+0000
TZNAME:UTC
DTSTART:20280101T000000
END:STANDARD
END:VTIMEZONE
BEGIN:VEVENT
DTSTART;VALUE=DATE:20290903
DTEND;VALUE=DATE:20290904
DTSTAMP:20260425T214435
CREATED:20241010T143536Z
LAST-MODIFIED:20241026T175249Z
UID:10001024-1883088000-1883174399@bocaratonassembly3092.com
SUMMARY:Labor Day
DESCRIPTION:Federal Holiday
URL:https://bocaratonassembly3092.com/event/labor-day/2029-09-03/
ATTACH;FMTTYPE=image/jpeg:https://bocaratonassembly3092.com/wp-content/uploads/2024/10/assembly3092-calendar-image.jpg
END:VEVENT
BEGIN:VEVENT
DTSTART;VALUE=DATE:20290911
DTEND;VALUE=DATE:20290912
DTSTAMP:20260425T214435
CREATED:20241026T165249Z
LAST-MODIFIED:20241026T165249Z
UID:10000979-1883779200-1883865599@bocaratonassembly3092.com
SUMMARY:Patriots Day
DESCRIPTION:
URL:https://bocaratonassembly3092.com/event/patriots-day-2/2029-09-11/
END:VEVENT
BEGIN:VEVENT
DTSTART;TZID=UTC:20290917T190000
DTEND;TZID=UTC:20290917T200000
DTSTAMP:20260425T214435
CREATED:20241010T135257Z
LAST-MODIFIED:20241026T190243Z
UID:10001211-1884366000-1884369600@bocaratonassembly3092.com
SUMMARY:ASMBLY #3092 General Meeting
DESCRIPTION:Open to all 4th Degree only. Refreshments available after meeting.
URL:https://bocaratonassembly3092.com/event/general-meeting-15/2029-09-17/
LOCATION:Our Lady of Lourdes O’Shea Hall\, 22094 Lyons Road\, Boca Raton\, FL\, 33428\, United States
ATTACH;FMTTYPE=image/jpeg:https://bocaratonassembly3092.com/wp-content/uploads/2024/10/assembly3092-calendar-image.jpg
ORGANIZER;CN="Knights of Columbus Assembly #3092 Boca Raton":MAILTO:knights@bocaratonassembly3092.com
END:VEVENT
BEGIN:VEVENT
DTSTART;TZID=UTC:20290926T120000
DTEND;TZID=UTC:20290926T123000
DTSTAMP:20260425T214435
CREATED:20241026T181208Z
LAST-MODIFIED:20241026T181426Z
UID:10001103-1885118400-1885120200@bocaratonassembly3092.com
SUMMARY:Bugle Update Deadline
DESCRIPTION:
URL:https://bocaratonassembly3092.com/event/bugle-update-deadline/2029-09-26/
END:VEVENT
END:VCALENDAR